BEGIN:VCALENDAR
VERSION:2.0
PRODID:-//The Biltmore Hotel - ECPv6.15.20//NONSGML v1.0//EN
CALSCALE:GREGORIAN
METHOD:PUBLISH
X-WR-CALNAME:The Biltmore Hotel
X-ORIGINAL-URL:https://biltmorehotel.com
X-WR-CALDESC:Events for The Biltmore Hotel
REFRESH-INTERVAL;VALUE=DURATION:PT1H
X-Robots-Tag:noindex
X-PUBLISHED-TTL:PT1H
BEGIN:VTIMEZONE
TZID:America/New_York
BEGIN:DAYLIGHT
TZOFFSETFROM:-0500
TZOFFSETTO:-0400
TZNAME:EDT
DTSTART:20250309T070000
END:DAYLIGHT
BEGIN:STANDARD
TZOFFSETFROM:-0400
TZOFFSETTO:-0500
TZNAME:EST
DTSTART:20251102T060000
END:STANDARD
BEGIN:DAYLIGHT
TZOFFSETFROM:-0500
TZOFFSETTO:-0400
TZNAME:EDT
DTSTART:20260308T070000
END:DAYLIGHT
BEGIN:STANDARD
TZOFFSETFROM:-0400
TZOFFSETTO:-0500
TZNAME:EST
DTSTART:20261101T060000
END:STANDARD
BEGIN:DAYLIGHT
TZOFFSETFROM:-0500
TZOFFSETTO:-0400
TZNAME:EDT
DTSTART:20270314T070000
END:DAYLIGHT
BEGIN:STANDARD
TZOFFSETFROM:-0400
TZOFFSETTO:-0500
TZNAME:EST
DTSTART:20271107T060000
END:STANDARD
END:VTIMEZONE
BEGIN:VEVENT
DTSTART;TZID=America/New_York:20260423T060000
DTEND;TZID=America/New_York:20260423T070000
DTSTAMP:20260423T035907
CREATED:20231229T144644Z
LAST-MODIFIED:20260408T163105Z
UID:10071989-1776924000-1776927600@biltmorehotel.com
SUMMARY:FitWalk (60 minutes) with Sally - Tues & Thurs 6am
DESCRIPTION:Unique\, outdoor fitness class walking thru our exclusive Golf Course boosting energy and improving balance.. all in the fresh air of nature.
URL:https://biltmorehotel.com/event/midweek-fitwalk-60-with-sally-twt-2/2026-04-23/
LOCATION:CCA Courtyard\, 1200 Anastasia Ave\, Coral Gables\, FL\, 33134\, United States
CATEGORIES:Fitness
END:VEVENT
BEGIN:VEVENT
DTSTART;TZID=America/New_York:20260423T060000
DTEND;TZID=America/New_York:20260423T185000
DTSTAMP:20260423T035907
CREATED:20250528T200432Z
LAST-MODIFIED:20260408T162603Z
UID:10072006-1776924000-1776970200@biltmorehotel.com
SUMMARY:Indoor Cycling (50 minutes) with Karin - Tues/Thurs 6am
DESCRIPTION:High calorie burning\, energy-infused\, low impact ride on stationary bikes for an incredible cardio workout.
URL:https://biltmorehotel.com/event/group-cycle-50min-with-karin-tues-thurs-6am/2026-04-23/
LOCATION:Spinning\, 1200 Anastasia Ave\, Coral Gables\, FL\, 33134\, United States
CATEGORIES:Fitness
END:VEVENT
BEGIN:VEVENT
DTSTART;TZID=America/New_York:20260423T070000
DTEND;TZID=America/New_York:20260423T073000
DTSTAMP:20260423T035907
CREATED:20231003T182434Z
LAST-MODIFIED:20260408T162731Z
UID:10072023-1776927600-1776929400@biltmorehotel.com
SUMMARY:Boot Camp (30 minutes) with Philip - Tues & Thurs 7am
DESCRIPTION:Dynamic and explosive total body workout combining high intensity and functional training.
URL:https://biltmorehotel.com/event/boot-camp-30-with-phillip-tues-thurs-7am/2026-04-23/
LOCATION:CCA Courtyard\, 1200 Anastasia Ave\, Coral Gables\, FL\, 33134\, United States
CATEGORIES:Fitness
END:VEVENT
BEGIN:VEVENT
DTSTART;TZID=America/New_York:20260423T070000
DTEND;TZID=America/New_York:20260423T080000
DTSTAMP:20260423T035907
CREATED:20230921T013816Z
LAST-MODIFIED:20260408T162758Z
UID:10072057-1776927600-1776931200@biltmorehotel.com
SUMMARY:Swim Camp (60 minutes) with Karin - Tues & Thur 7am
DESCRIPTION:Pressure free and comfortable workout for stroke efficiency and swimming skills regardless of swim level.
URL:https://biltmorehotel.com/event/swim-camp-with-karin-2/2026-04-23/
LOCATION:Biltmore Swimming Pool
CATEGORIES:Fitness
END:VEVENT
BEGIN:VEVENT
DTSTART;TZID=America/New_York:20260423T074500
DTEND;TZID=America/New_York:20260423T084500
DTSTAMP:20260423T035907
CREATED:20231003T182230Z
LAST-MODIFIED:20260408T162839Z
UID:10072684-1776930300-1776933900@biltmorehotel.com
SUMMARY:Stretch (60 minutes) with Tanis - Tues & Thurs 7:45am
DESCRIPTION:Restorative stretching class that improves mobility by lengthening and strengthening your muscles.
URL:https://biltmorehotel.com/event/stretch-60-with-tanis-tues-thurs-745am/2026-04-23/
LOCATION:Fitness Studio
CATEGORIES:Fitness
END:VEVENT
BEGIN:VEVENT
DTSTART;TZID=America/New_York:20260423T074500
DTEND;TZID=America/New_York:20260423T084500
DTSTAMP:20260423T035907
CREATED:20260401T175907Z
LAST-MODIFIED:20260408T163036Z
UID:10074856-1776930300-1776933900@biltmorehotel.com
SUMMARY:Yoga (60 minutes) with Susie- Tues & Thur 7:45am
DESCRIPTION:Holistic workout connecting mind and body through breathing techniques\, physical postures\, and meditation
URL:https://biltmorehotel.com/event/yoga-60-minutes-with-susie-tues-thur-745am/2026-04-23/
LOCATION:Yoga Studio\, 1200 Anastasia Avenue\, Coral Gables\, FL\, 33134\, United States
CATEGORIES:Fitness
END:VEVENT
BEGIN:VEVENT
DTSTART;TZID=America/New_York:20260423T080000
DTEND;TZID=America/New_York:20260423T180000
DTSTAMP:20260423T035907
CREATED:20240206T213048Z
LAST-MODIFIED:20260325T133202Z
UID:10072889-1776931200-1776967200@biltmorehotel.com
SUMMARY:BWGA
DESCRIPTION:
URL:https://biltmorehotel.com/event/bwga/2026-04-23/
LOCATION:Golf Course\, 1200 Anastasia Avenue\, Coral Gables\, FL\, 33134\, United States
CATEGORIES:Golf
END:VEVENT
BEGIN:VEVENT
DTSTART;TZID=America/New_York:20260423T090000
DTEND;TZID=America/New_York:20260423T095500
DTSTAMP:20260423T035907
CREATED:20231003T182043Z
LAST-MODIFIED:20260408T163145Z
UID:10072108-1776934800-1776938100@biltmorehotel.com
SUMMARY:Zumba (55 minutes) with Jon - Tues & Thurs 9am
DESCRIPTION:Energizing\, recreational workout in a calorie-burning dance fitness party.
URL:https://biltmorehotel.com/event/zumba-60-with-jon-tues-thurs-9am/2026-04-23/
LOCATION:Fitness Studio
CATEGORIES:Fitness
END:VEVENT
BEGIN:VEVENT
DTSTART;TZID=America/New_York:20260423T093000
DTEND;TZID=America/New_York:20260423T103000
DTSTAMP:20260423T035907
CREATED:20231003T183814Z
LAST-MODIFIED:20260401T180349Z
UID:10072091-1776936600-1776940200@biltmorehotel.com
SUMMARY:Aqua (60 minutes) with Sally Tues & Thurs 9:30
DESCRIPTION:Energizing\, recreational workout using buoyant hand weights\, noodles\, and your water aerobics skills in our iconic pool.
URL:https://biltmorehotel.com/event/aqua-60-with-sally-tues-thurs-930am/2026-04-23/
LOCATION:Biltmore Swimming Pool
CATEGORIES:Fitness
END:VEVENT
BEGIN:VEVENT
DTSTART;TZID=America/New_York:20260423T101500
DTEND;TZID=America/New_York:20260423T231500
DTSTAMP:20260423T035907
CREATED:20250923T165028Z
LAST-MODIFIED:20260401T182139Z
UID:10072125-1776939300-1776986100@biltmorehotel.com
SUMMARY:Mat Pilates (55 minutes) with Sandy- Tues & Thurs 10:15am
DESCRIPTION:A low impact\, full-body workout focusing on core strength\, flexibility\, balance\, and coordination on a mat setting. \nFor more information please contact Philip\, Fitness Director at palatriste@biltmorehotel.com or visit or call the Fitness Front Desk (305) 913 – 3102. \nConsent for participation in a health and fitness training program\, a Physical Activity Readiness Questionnaire (PAR-Q)\, and an Activity Waiver Form is recommended. For chronic conditions a physician referral is recommended.  \n 
URL:https://biltmorehotel.com/event/mat-pilates-55min-with-sandy-tues-thurs-1015am/2026-04-23/
LOCATION:Fitness Studio
CATEGORIES:Fitness
END:VEVENT
BEGIN:VEVENT
DTSTART;TZID=America/New_York:20260423T120000
DTEND;TZID=America/New_York:20260423T131500
DTSTAMP:20260423T035907
CREATED:20231003T174940Z
LAST-MODIFIED:20260401T182531Z
UID:10073565-1776945600-1776950100@biltmorehotel.com
SUMMARY:Yoga (75 minutes) with Loree - Tues & Thur 12pm
DESCRIPTION:Holistic workout connecting mind and body through breathing techniques\, physical postures\, and meditation
URL:https://biltmorehotel.com/event/yoga-75-with-loree-tues-12pm-2/2026-04-23/
CATEGORIES:Fitness
END:VEVENT
BEGIN:VEVENT
DTSTART;TZID=America/New_York:20260423T130000
DTEND;TZID=America/New_York:20260423T150000
DTSTAMP:20260423T035907
CREATED:20230921T025101Z
LAST-MODIFIED:20260408T194603Z
UID:10072361-1776949200-1776956400@biltmorehotel.com
SUMMARY:Traditional Afternoon Tea - Thursdays
DESCRIPTION:Enjoy a delightful Traditional Afternoon Tea service featuring sweet and savory treats as well as an assortment of tea.
URL:https://biltmorehotel.com/event/traditional-afternoon-tea-thursdays/2026-04-23/
LOCATION:Alhambra Lobby – Upper Level
CATEGORIES:Dining
ATTACH;FMTTYPE=image/jpeg:https://biltmorehotel.com/wp-content/uploads/Biltmore-Hotel-Miami-Coral-Gables-Dining-Afternoon-Tea-Lobby.jpg
END:VEVENT
BEGIN:VEVENT
DTSTART;TZID=America/New_York:20260423T163000
DTEND;TZID=America/New_York:20260423T200000
DTSTAMP:20260423T035907
CREATED:20260324T200138Z
LAST-MODIFIED:20260325T160607Z
UID:10072818-1776961800-1776974400@biltmorehotel.com
SUMMARY:Prime Rib Dinner at Fairways
DESCRIPTION:Every Thursday\n4:30pm to close \nEnjoy a three-course dinner centered around herb-crusted prime rib of beef\, served with whipped potatoes\, parmesan cream spinach\, and traditional accompaniments.\nA refined tradition. \n\nExperience More \nEvenings Worth Savoring \nLobster Boil Dinner\nEvery Wednesday | 4:30pm to close \nSavor a generous three-course lobster dinner featuring a whole 1.5 lb lobster with mussels\, steamed clams\, and classic accompaniments.\nA timeless coastal feast. \nBeef Wellington\nEvery Friday & Saturday | Lunch & Dinner \nIndulge in one of the great culinary classics. Our Beef Wellington is served with white truffle pomme purée\, asparagus tips\, honey-glazed petit carrots\, and Chianti Classico demi-glace.
URL:https://biltmorehotel.com/event/prime-rib-dinner-every-thursday-at-fairways/2026-04-23/
LOCATION:Fairways Restaurant\, 1200 Anastasia Ave\, Coral Gables\, FL\, 33134\, United States
CATEGORIES:Featured Events,Dining
ATTACH;FMTTYPE=image/jpeg:https://biltmorehotel.com/wp-content/uploads/Prime-rib-dinner-special-at-fairways-restaurant-Miami-at-the-biltmore-hotel-coral-gables.jpg
END:VEVENT
BEGIN:VEVENT
DTSTART;TZID=America/New_York:20260423T170000
DTEND;TZID=America/New_York:20260423T173000
DTSTAMP:20260423T035907
CREATED:20241218T145545Z
LAST-MODIFIED:20260401T182753Z
UID:10072176-1776963600-1776965400@biltmorehotel.com
SUMMARY:Body Sculpt (30 minutes) with Nathalia - Tues & Thur 5pm
DESCRIPTION:High energy cardio strength training for the upper body\, lower body and core.
URL:https://biltmorehotel.com/event/body-sculpt-with-nathalia-tues-thur-5pm-2/2026-04-23/
LOCATION:Fitness Studio
CATEGORIES:Fitness
END:VEVENT
BEGIN:VEVENT
DTSTART;TZID=America/New_York:20260423T170000
DTEND;TZID=America/New_York:20260423T175500
DTSTAMP:20260423T035907
CREATED:20250716T194604Z
LAST-MODIFIED:20260401T184611Z
UID:10072210-1776963600-1776966900@biltmorehotel.com
SUMMARY:Pilates Reformer (55 minutes\, $$) with Cat - Tues & Thurs 5pm
DESCRIPTION:Low-impact\, full-body workout focusing on core strength\, flexibility\, balance\, and coordination while using our reformer machine. \nBooking thru MINDBODY app – The Club at The Biltmore. \n For more information please contact Philip\, Fitness Director at palatriste@biltmorehotel.com or visit or call the Fitness Front Desk (305) 913 – 3102. \nPayments are payable to The Biltmore Hotel. 48-hour cancellation period does apply. \nConsent for participation in a health and fitness training program\, a Physical Activity Readiness Questionnaire (PAR-Q)\, and an Activity Waiver Form is recommended. For chronic conditions a physician referral is recommended.  \n 
URL:https://biltmorehotel.com/event/pilates-reformer-50min-with-cat-tues-thurs-5pm/2026-04-23/
LOCATION:Reformer\, 1200 Anastasia Ave\, Coral Gables\, FL\, 33134\, United States
CATEGORIES:Fitness
END:VEVENT
BEGIN:VEVENT
DTSTART;TZID=America/New_York:20260423T170000
DTEND;TZID=America/New_York:20260423T181500
DTSTAMP:20260423T035907
CREATED:20230921T020047Z
LAST-MODIFIED:20260401T185013Z
UID:10072378-1776963600-1776968100@biltmorehotel.com
SUMMARY:Yoga (75 minutes) with Debra Lee - Tues & Thurs 5pm
DESCRIPTION:Holistic Workout connecting mind and body through breathing techniques\, physical postures\, and meditation.
URL:https://biltmorehotel.com/event/yoga-75-with-debra-lee/2026-04-23/
LOCATION:Yoga Studio\, 1200 Anastasia Avenue\, Coral Gables\, FL\, 33134\, United States
CATEGORIES:Fitness
END:VEVENT
BEGIN:VEVENT
DTSTART;TZID=America/New_York:20260423T173000
DTEND;TZID=America/New_York:20260423T180000
DTSTAMP:20260423T035907
CREATED:20241218T144722Z
LAST-MODIFIED:20260401T185222Z
UID:10073812-1776965400-1776967200@biltmorehotel.com
SUMMARY:Ab Lab (30 minutes) with Nathalia - Tues & Thurs 5:30 pm
DESCRIPTION:Meant to exhaust every muscle of your core.
URL:https://biltmorehotel.com/event/ab-lab-with-nathalia-30min-tuesdays-530-pm/2026-04-23/
LOCATION:Fitness Studio
CATEGORIES:Fitness
END:VEVENT
BEGIN:VEVENT
DTSTART;TZID=America/New_York:20260423T180000
DTEND;TZID=America/New_York:20260423T185500
DTSTAMP:20260423T035907
CREATED:20250925T205029Z
LAST-MODIFIED:20260401T185450Z
UID:10072261-1776967200-1776970500@biltmorehotel.com
SUMMARY:Pilates Reformer (55 minutes\, $$) with Cat - Tues & Thurs 6pm
DESCRIPTION:Low-impact\, full-body workout focusing on core strength\, flexibility\, balance\, and coordination while using our reformer machine. \nBooking thru MINDBODY App – The Club at The Biltmore \nFor more information please contact Philip\, Fitness Director at palatriste@biltmorehotel.com or visit or call the Fitness Front Desk (305) 913 – 3102. \nPayments are payable to The Biltmore Hotel. 48-hour cancellation period does apply. \nConsent for participation in a health and fitness training program\, a Physical Activity Readiness Questionnaire (PAR-Q)\, and an Activity Waiver Form is recommended. For chronic conditions a physician referral is recommended.  \n 
URL:https://biltmorehotel.com/event/pilates-reformer-50min-with-cat-tues-thurs-6pm/2026-04-23/
LOCATION:Reformer\, 1200 Anastasia Ave\, Coral Gables\, FL\, 33134\, United States
CATEGORIES:Fitness
END:VEVENT
BEGIN:VEVENT
DTSTART;TZID=America/New_York:20260424T060000
DTEND;TZID=America/New_York:20260424T065000
DTSTAMP:20260423T035907
CREATED:20250528T200618Z
LAST-MODIFIED:20260407T195752Z
UID:10072395-1777010400-1777013400@biltmorehotel.com
SUMMARY:Indoor Cycling (50 minutes) with Nathalia - Fri 6am
DESCRIPTION:High calorie burning\, energy-infused\, low impact on stationary bikes for an incredible cardio workout
URL:https://biltmorehotel.com/event/group-cycle-50min-with-nathalia-fri-6am/2026-04-24/
LOCATION:Spinning\, 1200 Anastasia Ave\, Coral Gables\, FL\, 33134\, United States
CATEGORIES:Fitness
END:VEVENT
BEGIN:VEVENT
DTSTART;TZID=America/New_York:20260424T074500
DTEND;TZID=America/New_York:20260424T084500
DTSTAMP:20260423T035907
CREATED:20230921T003328Z
LAST-MODIFIED:20260407T200036Z
UID:10072412-1777016700-1777020300@biltmorehotel.com
SUMMARY:Core Yoga (60 minutes) with Susie - Fri 7:45am
DESCRIPTION:Core-focused holistic workout connecting mind and body through breathing techniques\, physical postures\, and meditation
URL:https://biltmorehotel.com/event/core-yoga-60-with-susie-fri-745am/2026-04-24/
LOCATION:Yoga Studio\, 1200 Anastasia Avenue\, Coral Gables\, FL\, 33134\, United States
CATEGORIES:Fitness
END:VEVENT
BEGIN:VEVENT
DTSTART;TZID=America/New_York:20260424T090000
DTEND;TZID=America/New_York:20260424T095000
DTSTAMP:20260423T035907
CREATED:20231227T204718Z
LAST-MODIFIED:20260407T200439Z
UID:10071882-1777021200-1777024200@biltmorehotel.com
SUMMARY:Indoor Cycling (50 minutes) with Erica - Mon/Wed/Fri 9am
DESCRIPTION:Cycling Studio in Fitness Center \nHigh calorie burning\, energy-infused\, low impact ride on stationary bikes for an incredible cardio workout.
URL:https://biltmorehotel.com/event/group-cycle-45min-with-erica-mon-wed-fri-9am/2026-04-24/
LOCATION:Spinning\, 1200 Anastasia Ave\, Coral Gables\, FL\, 33134\, United States
CATEGORIES:Fitness
END:VEVENT
BEGIN:VEVENT
DTSTART;TZID=America/New_York:20260424T090000
DTEND;TZID=America/New_York:20260424T100000
DTSTAMP:20260423T035907
CREATED:20231003T185502Z
LAST-MODIFIED:20260407T200301Z
UID:10073185-1777021200-1777024800@biltmorehotel.com
SUMMARY:Fitness (60 minutes) with Susie - Mon & Fri 9am
DESCRIPTION:Cardio-based workout promoting\, building\, and maintaining muscular strength and cardiovascular endurance.
URL:https://biltmorehotel.com/event/fitness-60-with-susie-mon-fri-9am/2026-04-24/
LOCATION:Fitness Studio
CATEGORIES:Fitness
END:VEVENT
BEGIN:VEVENT
DTSTART;TZID=America/New_York:20260424T090000
DTEND;TZID=America/New_York:20260424T100000
DTSTAMP:20260423T035907
CREATED:20250905T211759Z
LAST-MODIFIED:20260407T201016Z
UID:10069344-1777021200-1777024800@biltmorehotel.com
SUMMARY:Aqua (60 minutes) with Ann - Fri 9am
DESCRIPTION:Energizing\, recreational workout using buoyant hand weights\, noodles\, and your water aerobics skills in our iconic pool.
URL:https://biltmorehotel.com/event/aqua-60-with-ann-fri-9am-2/2026-04-24/
LOCATION:Biltmore Swimming Pool
CATEGORIES:Fitness
END:VEVENT
BEGIN:VEVENT
DTSTART;TZID=America/New_York:20260424T100000
DTEND;TZID=America/New_York:20260424T225500
DTSTAMP:20260423T035907
CREATED:20231227T175305Z
LAST-MODIFIED:20260407T202030Z
UID:10071925-1777024800-1777071300@biltmorehotel.com
SUMMARY:Pilates Reformer (55 minutes\, $$) with Cat - M/W/F 10am
DESCRIPTION:Low-impact\, full-body workout focusing on core strength\, flexibility\, balance\, and coordination while using our reformer machine. \nBooking thru MINDBODY App – The Club at The Biltmore. \nFor more information please contact Philip\, Fitness Director at palatriste@biltmorehotel.com or visit or call the Fitness Front Desk (305) 913 – 3102. \nPayments are payable to The Biltmore Hotel. 48-hour cancellation period does apply. \nConsent for participation in a health and fitness training program\, a Physical Activity Readiness Questionnaire (PAR-Q)\, and an Activity Waiver Form is recommended. For chronic conditions a physician referral is recommended. 
URL:https://biltmorehotel.com/event/pilates-reformer-50-minutes-with-cat-sun-mon-wed-fri-10am/2026-04-24/
LOCATION:Reformer\, 1200 Anastasia Ave\, Coral Gables\, FL\, 33134\, United States
CATEGORIES:Fitness
END:VEVENT
BEGIN:VEVENT
DTSTART;TZID=America/New_York:20260424T100000
DTEND;TZID=America/New_York:20260424T225500
DTSTAMP:20260423T035907
CREATED:20231227T202327Z
LAST-MODIFIED:20260407T202302Z
UID:10071951-1777024800-1777071300@biltmorehotel.com
SUMMARY:Fitness (55 minutes) with Erica- Mon/Wed/Fri 10am
DESCRIPTION:Cardio-based workout promoting\, building\, and maintaining muscular strength and cardiovascular endurance.
URL:https://biltmorehotel.com/event/fitness-55min-with-erica-mon-wed-fri-10am/2026-04-24/
LOCATION:Fitness Studio
CATEGORIES:Fitness
END:VEVENT
BEGIN:VEVENT
DTSTART;TZID=America/New_York:20260424T113000
DTEND;TZID=America/New_York:20260424T200000
DTSTAMP:20260423T035907
CREATED:20260325T151751Z
LAST-MODIFIED:20260325T160408Z
UID:10072905-1777030200-1777060800@biltmorehotel.com
SUMMARY:Indulge in a Culinary Classic at Fairways - Beef Wellington
DESCRIPTION:Every Friday & Saturday\nLunch & Dinner \nRelish one of the greatest culinary classics. Our Beef Wellington is served with white truffle pomme purée\, asparagus tips\, honey-glazed petit carrots\, and Chianti Classico demi-glace. \n\nExperience More \nEvenings Worth Savoring \nLobster Boil Dinner\nEvery Wednesday | 4:30pm to close \nSavor a generous three-course lobster dinner featuring a whole 1.5 lb lobster with mussels\, steamed clams\, and classic accompaniments.\nA timeless coastal feast. \nPrime Rib Dinner\nEvery Thursday 4:30pm to close \nEnjoy a three-course dinner centered around herb-crusted prime rib of beef\, served with whipped potatoes\, parmesan cream spinach\, and traditional accompaniments.\nA refined tradition.
URL:https://biltmorehotel.com/event/indulge-in-a-culinary-classic-at-fairways-beef-wellington/2026-04-24/
LOCATION:Fairways Restaurant\, 1200 Anastasia Ave\, Coral Gables\, FL\, 33134\, United States
CATEGORIES:Featured Events,Dining
ATTACH;FMTTYPE=image/jpeg:https://biltmorehotel.com/wp-content/uploads/Specialty-Dinner-Nights-at-Fairways-Restaurant-Miami-at-The-BIltmore-Hotel-Coral-Gables-Beef-Wellington.jpg
END:VEVENT
BEGIN:VEVENT
DTSTART;TZID=America/New_York:20260424T120000
DTEND;TZID=America/New_York:20260424T131500
DTSTAMP:20260423T035907
CREATED:20231003T185919Z
LAST-MODIFIED:20260407T202852Z
UID:10072339-1777032000-1777036500@biltmorehotel.com
SUMMARY:Yoga (75 minutes) with Guiliana - Fri 12pm
DESCRIPTION:Holistic workout connecting mind and body through breathing techniques\, physical postures\, and meditation
URL:https://biltmorehotel.com/event/yoga-75-with-debra-lee-thurs-fri-12pm/2026-04-24/
LOCATION:Yoga Studio\, 1200 Anastasia Avenue\, Coral Gables\, FL\, 33134\, United States
CATEGORIES:Fitness
END:VEVENT
BEGIN:VEVENT
DTSTART;TZID=America/New_York:20260424T130000
DTEND;TZID=America/New_York:20260424T150000
DTSTAMP:20260423T035907
CREATED:20230921T025148Z
LAST-MODIFIED:20260408T195454Z
UID:10072429-1777035600-1777042800@biltmorehotel.com
SUMMARY:Traditional Afternoon Tea - Fridays
DESCRIPTION:Enjoy a delightful Traditional Afternoon Tea service featuring sweet and savory treats as well as an assortment of tea.
URL:https://biltmorehotel.com/event/traditional-afternoon-tea-fridays/2026-04-24/
LOCATION:Alhambra Lobby – Upper Level
CATEGORIES:Dining
ATTACH;FMTTYPE=image/jpeg:https://biltmorehotel.com/wp-content/uploads/Biltmore-Hotel-Miami-Coral-Gables-Dining-Afternoon-Tea-Lobby.jpg
END:VEVENT
BEGIN:VEVENT
DTSTART;VALUE=DATE:20260425
DTEND;VALUE=DATE:20260426
DTSTAMP:20260423T035907
CREATED:20260325T132959Z
LAST-MODIFIED:20260325T132959Z
UID:10072895-1777075200-1777161599@biltmorehotel.com
SUMMARY:BMGA April Tournment
DESCRIPTION:
URL:https://biltmorehotel.com/event/bmga-april-tournment/
LOCATION:Golf Course\, 1200 Anastasia Avenue\, Coral Gables\, FL\, 33134\, United States
CATEGORIES:Golf
END:VEVENT
BEGIN:VEVENT
DTSTART;TZID=America/New_York:20260425T083000
DTEND;TZID=America/New_York:20260425T091500
DTSTAMP:20260423T035908
CREATED:20240104T214441Z
LAST-MODIFIED:20260407T204044Z
UID:10074440-1777105800-1777108500@biltmorehotel.com
SUMMARY:Indoor Cycling (45 minutes) with Melissa - Sat 8:30am
DESCRIPTION:High calorie burning\, energy-infused\, low impact ride on stationary bikes for an incredible cardio
URL:https://biltmorehotel.com/event/group-cycle-50min-w-melissa-sat-830am/2026-04-25/
LOCATION:Spinning\, 1200 Anastasia Ave\, Coral Gables\, FL\, 33134\, United States
CATEGORIES:Fitness
END:VEVENT
END:VCALENDAR